BEGIN:VCALENDAR
CALSCALE:GREGORIAN
X-WR-TIMEZONE;VALUE=TEXT:GMT
PRODID:PEAK Corporation - piCal -
X-WR-CALNAME;VALUE=TEXT:中国春蘭展（神代植物公園）
VERSION:2.0
METHOD:PUBLISH
BEGIN:VTIMEZONE
TZID:GMT
BEGIN:STANDARD
DTSTART:19390101T000000
TZOFFSETFROM:+0000
TZOFFSETTO:+0000
TZNAME:GMT
END:STANDARD
END:VTIMEZONE
BEGIN:VEVENT
DTSTART;VALUE=DATE:20120207
DTEND;VALUE=DATE:20120213
LOCATION:神代植物公園・植物開館展示室
TRANSP:OPAQUE
SEQUENCE:0
UID:pical060-8b90b40dcf98d5ac56f361f2d5f0c152
DTSTAMP:20120212T013216Z
CATEGORIES:園芸イベント,展覧会、展示会,蘭・ラン
DESCRIPTION:協賛団体：芳華会\n
SUMMARY:中国春蘭展（神代植物公園）
PRIORITY:0
CLASS:PUBLIC
END:VEVENT
END:VCALENDAR
