BEGIN:VCALENDAR
CALSCALE:GREGORIAN
X-WR-TIMEZONE;VALUE=TEXT:GMT
PRODID:PEAK Corporation - piCal -
X-WR-CALNAME;VALUE=TEXT:神代植物公園・趣味の盆栽展
VERSION:2.0
METHOD:PUBLISH
BEGIN:VTIMEZONE
TZID:GMT
BEGIN:STANDARD
DTSTART:19390101T000000
TZOFFSETFROM:+0000
TZOFFSETTO:+0000
TZNAME:GMT
END:STANDARD
END:VTIMEZONE
BEGIN:VEVENT
DTSTART;VALUE=DATE:20120228
DTEND;VALUE=DATE:20120305
LOCATION:神代植物公園・植物会館展示室
TRANSP:OPAQUE
SEQUENCE:0
UID:pical060-53884ce9ed7ff13484883bfad4f76e8b
DTSTAMP:20120212T013400Z
CATEGORIES:園芸イベント,展覧会、展示会,盆栽
DESCRIPTION:協賛団体：調布市盆栽生産組合
SUMMARY:神代植物公園・趣味の盆栽展
PRIORITY:0
CLASS:PUBLIC
END:VEVENT
END:VCALENDAR
