BEGIN:VCALENDAR
CALSCALE:GREGORIAN
X-WR-TIMEZONE;VALUE=TEXT:GMT
PRODID:PEAK Corporation - piCal -
X-WR-CALNAME;VALUE=TEXT:新宿御苑花市場：2012年3月
VERSION:2.0
METHOD:PUBLISH
BEGIN:VTIMEZONE
TZID:GMT
BEGIN:STANDARD
DTSTART:19390101T000000
TZOFFSETFROM:+0000
TZOFFSETTO:+0000
TZNAME:GMT
END:STANDARD
END:VTIMEZONE
BEGIN:VEVENT
DTSTART;VALUE=DATE:20120310
DTEND;VALUE=DATE:20120312
LOCATION:新宿御苑
TRANSP:OPAQUE
SEQUENCE:0
UID:pical060-89d987fa5e2b88fd7e20a41272a067be
DTSTAMP:20120303T130720Z
CATEGORIES:園芸イベント,花卉・植木全般,展覧会、展示会,花、草木関連催し
DESCRIPTION:新宿御苑についての詳細は、<a href="http://www.fng.or.jp/shinjuku/shinjuku-index.html" target="_blank">公式サイト</a>をご覧ください。\n\nまた、新宿御苑の開花や最新自然情報は、<a href="http://www.fng.blog.ocn.ne.jp/shinjukugyoen/" target="_blank">こちらのブログ</a>でご覧ください。
SUMMARY:新宿御苑花市場：2012年3月
PRIORITY:0
CLASS:PUBLIC
END:VEVENT
END:VCALENDAR
