BEGIN:VCALENDAR
CALSCALE:GREGORIAN
X-WR-TIMEZONE;VALUE=TEXT:GMT
PRODID:PEAK Corporation - piCal -
X-WR-CALNAME;VALUE=TEXT:4月の園芸懇話会「新宿御苑観桜会」(園芸文化協会主催)
VERSION:2.0
METHOD:PUBLISH
BEGIN:VTIMEZONE
TZID:GMT
BEGIN:STANDARD
DTSTART:19390101T000000
TZOFFSETFROM:+0000
TZOFFSETTO:+0000
TZNAME:GMT
END:STANDARD
END:VTIMEZONE
BEGIN:VEVENT
DTSTART:20120421T040000Z
DTEND:20120421T070000Z
LOCATION:新宿御苑(インフォメーションセンター2階レクチャールームと園内)
TRANSP:OPAQUE
SEQUENCE:0
UID:pical060-64a9b67e3ccdf71cb41e6a8df2e5d396
DTSTAMP:20120323T085446Z
CATEGORIES:園芸イベント,研究会、セミナー、勉強会
DESCRIPTION:<b>【実施概要】</b>\n●内容\n１）レクチャールームでの講義：13：00-14：00\n２）園内見学：14：20−16：00\n●レクチャー、園内案内と解説：\n小笠原佐衛門尉亮軒先生(園芸文化協会評議員・江戸園芸研究家)、雨天決行\n●参加料：2,000円(講義、資料代並びに伊予本ガイド借用料)、入園料は各自負担。\n●定員：30名(先着順)\n●申込期日：2012年4月13日(金曜)\n●申し込み先：園芸文化協会　Tel：03-5803-6340
SUMMARY:4月の園芸懇話会「新宿御苑観桜会」(園芸文化協会主催)
PRIORITY:0
CLASS:PUBLIC
END:VEVENT
END:VCALENDAR
