BEGIN:VCALENDAR
CALSCALE:GREGORIAN
X-WR-TIMEZONE;VALUE=TEXT:GMT
PRODID:PEAK Corporation - piCal -
X-WR-CALNAME;VALUE=TEXT:さくらの日
VERSION:2.0
METHOD:PUBLISH
BEGIN:VTIMEZONE
TZID:GMT
BEGIN:STANDARD
DTSTART:19390101T000000
TZOFFSETFROM:+0000
TZOFFSETTO:+0000
TZNAME:GMT
END:STANDARD
END:VTIMEZONE
BEGIN:VEVENT
DTSTART;VALUE=DATE:20120327
DTEND;VALUE=DATE:20120328
LOCATION:日本国内
TRANSP:OPAQUE
SEQUENCE:0
UID:pical060-f34bfd68cc4da25395b261b915578bb8
DTSTAMP:20120323T085755Z
CATEGORIES:花、草木関連催し
DESCRIPTION:日本さくらの会が制定。
SUMMARY:さくらの日
PRIORITY:0
CLASS:PUBLIC
END:VEVENT
END:VCALENDAR
