BEGIN:VCALENDAR
CALSCALE:GREGORIAN
X-WR-TIMEZONE;VALUE=TEXT:GMT
PRODID:PEAK Corporation - piCal -
X-WR-CALNAME;VALUE=TEXT:つばきの日(椿の日)
VERSION:2.0
METHOD:PUBLISH
BEGIN:VTIMEZONE
TZID:GMT
BEGIN:STANDARD
DTSTART:19390101T000000
TZOFFSETFROM:+0000
TZOFFSETTO:+0000
TZNAME:GMT
END:STANDARD
END:VTIMEZONE
BEGIN:VEVENT
DTSTART;VALUE=DATE:20120208
DTEND;VALUE=DATE:20120209
LOCATION:日本国内
TRANSP:OPAQUE
SEQUENCE:0
UID:pical060-9a3e3416e3ec459fc3f97cf66b9ea95c
DTSTAMP:20120323T090914Z
CATEGORIES:花、草木関連催し
DESCRIPTION:長崎県五島市が制定。「つ(2)ば(8)き」の語呂合せ。\n\n
SUMMARY:つばきの日(椿の日)
PRIORITY:0
CLASS:PUBLIC
END:VEVENT
END:VCALENDAR
