BEGIN:VCALENDAR
CALSCALE:GREGORIAN
X-WR-TIMEZONE;VALUE=TEXT:GMT
PRODID:PEAK Corporation - piCal -
X-WR-CALNAME;VALUE=TEXT:「モノクロームをデザインする」(NFD全国支部イベント：東京西部支部主催)
VERSION:2.0
METHOD:PUBLISH
BEGIN:VTIMEZONE
TZID:GMT
BEGIN:STANDARD
DTSTART:19390101T000000
TZOFFSETFROM:+0000
TZOFFSETTO:+0000
TZNAME:GMT
END:STANDARD
END:VTIMEZONE
BEGIN:VEVENT
DTSTART:20120610T000000Z
DTEND:20120610T080000Z
LOCATION:国分寺Lホール
TRANSP:OPAQUE
SEQUENCE:1
UID:pical060-b6901d29e9c907c3e4ab445b68e716de
DTSTAMP:20120504T102802Z
CATEGORIES:園芸イベント,研究会、セミナー、勉強会,首都圏
DESCRIPTION:実施単位：5 単位（NFD会員対象の単位です） \n予定人数：140 名（満員の場合はご容赦ください） \n参加費：3,500円\n講師：伊東　慶直 \n\n【イベント詳細】\n ＜アレンジメント製作＞\n白と黒、無彩色の世界。\n自然の中ではありえない色の組合せを、あえて花を使ってデザインします。 \n＜当支部へのご連絡先＞\n（お問合せ・申込み先）氏名 大和久　栄恵 TEL：080-4418-4187\n住所：〒204-0023　東京都清瀬市竹丘3-10-6
SUMMARY:「モノクロームをデザインする」(NFD全国支部イベント：東京西部支部主催)
PRIORITY:0
CLASS:PUBLIC
END:VEVENT
END:VCALENDAR
