BEGIN:VCALENDAR
CALSCALE:GREGORIAN
X-WR-TIMEZONE;VALUE=TEXT:GMT
PRODID:PEAK Corporation - piCal -
X-WR-CALNAME;VALUE=TEXT:「NFD支部総会付帯事業・チャームづくり講座」(NFD支部イベント：栃木県支部主催)
VERSION:2.0
METHOD:PUBLISH
BEGIN:VTIMEZONE
TZID:GMT
BEGIN:STANDARD
DTSTART:19390101T000000
TZOFFSETFROM:+0000
TZOFFSETTO:+0000
TZNAME:GMT
END:STANDARD
END:VTIMEZONE
BEGIN:VEVENT
DTSTART:20120520T000000Z
DTEND:20120520T080000Z
LOCATION:栃木県教育会館
TRANSP:OPAQUE
SEQUENCE:1
UID:pical060-b51bc5c0e2aeecf5669a7b6d389b538b
DTSTAMP:20120504T103438Z
CATEGORIES:園芸イベント,研究会、セミナー、勉強会,首都圏
DESCRIPTION:単位 5 単位：（NFD会員対象の単位です） \n予定人数：80 名（満員の場合はご容赦ください） \n参加費：3,500円 \n講師：なかやま　れいこ \n\n【イベント詳細】\nアクセサリー(チャームコサージュ)づくり\n材質感の違った副素材の組み合わせでのファンシーなコサージュ作り \n＜当支部へのご連絡先＞\n（お問合せ・申込み先）木村　美智子\nTEL：028-621-3360 \n住所：〒320-0023　栃木県宇都宮市仲町1-21　2階 \n \n
SUMMARY:「NFD支部総会付帯事業・チャームづくり講座」(NFD支部イベント：栃木県支部主催)
PRIORITY:0
CLASS:PUBLIC
END:VEVENT
END:VCALENDAR
