BEGIN:VCALENDAR
CALSCALE:GREGORIAN
X-WR-TIMEZONE;VALUE=TEXT:GMT
PRODID:PEAK Corporation - piCal -
X-WR-CALNAME;VALUE=TEXT:2012年 京都 東洋蘭総合展示即売会
VERSION:2.0
METHOD:PUBLISH
BEGIN:VTIMEZONE
TZID:GMT
BEGIN:STANDARD
DTSTART:19390101T000000
TZOFFSETFROM:+0000
TZOFFSETTO:+0000
TZNAME:GMT
END:STANDARD
END:VTIMEZONE
BEGIN:VEVENT
DTSTART;VALUE=DATE:20120526
DTEND;VALUE=DATE:20120528
LOCATION:京都市梅小路公園内　緑の館(七条入口)
TRANSP:OPAQUE
SEQUENCE:0
UID:pical060-2dc2fcc2eac4316b1a9290864c48c71d
DTSTAMP:20120528T073438Z
CATEGORIES:園芸イベント,展覧会、展示会,盆栽,蘭・ラン
DESCRIPTION:●日　時●平成24年5月26日（土） 10：00〜16：00\n　　　　　　　　5月27日（日） 10：00〜14：00 \n●場　所●\n京都市梅小路公園内　緑の館（七条入口）\n京都市下京区観善寺町（JR京都駅よりタクシー5分）\nTEL：075-352-2500  \n詳細は、京都市都市緑化協会ホームページで\n梅小路公園の案内が掲載されています。  \n\n●展示品●\n富貴蘭、春蘭、寒蘭、伝統園芸植物、その他\n趣味者の展示参加を大歓迎します。参加賞を用意しますので、奮って出品して下さい。。\n出品受付/25日14:00〜16：00　26日9：00〜10:00\n\n●主　催●\n日本伝統園芸協会 \n大会事務局： 京都蘭センター　TEL：0774-88-3091 \n \n●展示即売業者●\n（茨城）梅里園\n（三重）岡本蘭舎\n（大阪）実幸園・植木屋21\n（和歌山）和歌山ガーデン・蘭のみその\n（岡山）蘭遊園\n（広島）万仙園・花ごよみ\n（香川）蘭翠苑\n（徳島）阿波園\n（福岡）みのうらん園・夢らん舎\n（京都）京都蘭センター
SUMMARY:2012年 京都 東洋蘭総合展示即売会
PRIORITY:0
CLASS:PUBLIC
END:VEVENT
END:VCALENDAR
