BEGIN:VCALENDAR
CALSCALE:GREGORIAN
X-WR-TIMEZONE;VALUE=TEXT:GMT
PRODID:PEAK Corporation - piCal -
X-WR-CALNAME;VALUE=TEXT:鹿苑山　香勝寺(静岡県)「ききょう園」開園予定
VERSION:2.0
METHOD:PUBLISH
BEGIN:VTIMEZONE
TZID:GMT
BEGIN:STANDARD
DTSTART:19390101T000000
TZOFFSETFROM:+0000
TZOFFSETTO:+0000
TZNAME:GMT
END:STANDARD
END:VTIMEZONE
BEGIN:VEVENT
DTSTART;VALUE=DATE:20120609
DTEND;VALUE=DATE:20120610
LOCATION:鹿苑山　香勝寺
TRANSP:OPAQUE
SEQUENCE:1
UID:pical060-55c9118debb371bca6e63ed712c19269
DTSTAMP:20120530T003114Z
CATEGORIES:園芸イベント,研究会、セミナー、勉強会,首都圏以外,展覧会、展示会
DESCRIPTION:住所：静岡県周智郡森町草ヶ谷968\n公式サイトは、<a href="http://www.kikyoudera.com/" target="_blank">こちらから</a>ご覧いただけます。
SUMMARY:鹿苑山　香勝寺(静岡県)「ききょう園」開園予定
PRIORITY:0
CLASS:PUBLIC
END:VEVENT
END:VCALENDAR
