BEGIN:VCALENDAR
CALSCALE:GREGORIAN
X-WR-TIMEZONE;VALUE=TEXT:GMT
PRODID:PEAK Corporation - piCal -
X-WR-CALNAME;VALUE=TEXT:テストセミナー第2弾（相模原エリア・相武ガーデン)
VERSION:2.0
METHOD:PUBLISH
BEGIN:VTIMEZONE
TZID:GMT
BEGIN:STANDARD
DTSTART:19390101T000000
TZOFFSETFROM:+0000
TZOFFSETTO:+0000
TZNAME:GMT
END:STANDARD
END:VTIMEZONE
BEGIN:VEVENT
DTSTART:20120616T060000Z
DTEND:20120616T080000Z
LOCATION:相模原市市内
TRANSP:OPAQUE
SEQUENCE:1
UID:pical060-81b9a1052d2280ad956ae854e167d282
DTSTAMP:20120614T030151Z
CATEGORIES:園芸イベント,研究会、セミナー、勉強会,首都圏
DESCRIPTION:伊藤先生のご紹介による相模原の花屋さん向けにテストセミナーを開催(相模原市・相武ガーデン内)
SUMMARY:テストセミナー第2弾（相模原エリア・相武ガーデン)
PRIORITY:0
CLASS:PUBLIC
END:VEVENT
END:VCALENDAR
