BEGIN:VCALENDAR
CALSCALE:GREGORIAN
X-WR-TIMEZONE;VALUE=TEXT:GMT
PRODID:PEAK Corporation - piCal -
X-WR-CALNAME;VALUE=TEXT:お富士さんの植木市と花のフェスティバル：6月
VERSION:2.0
METHOD:PUBLISH
BEGIN:VTIMEZONE
TZID:GMT
BEGIN:STANDARD
DTSTART:19390101T000000
TZOFFSETFROM:+0000
TZOFFSETTO:+0000
TZNAME:GMT
END:STANDARD
END:VTIMEZONE
BEGIN:VEVENT
DTSTART;VALUE=DATE:20120630
DTEND;VALUE=DATE:20120702
LOCATION:浅間神社付近
TRANSP:OPAQUE
SEQUENCE:0
UID:pical060-613c53443f1de4b62df5e433db156d01
DTSTAMP:20120618T015558Z
CATEGORIES:花、草木関連催し,植木市
DESCRIPTION:<b>お富士さんの植木市と花のフェスティバル</b>\n\n◇開催日程：平成24年5月26日、27日、6月30日、7月1日\n◇開催場所：浅間（せんげん）神社周辺\n\n浅間神社は、お富士さんと呼ばれて親しまれています。この植木市は東京でも最大級の規模のもので、数百軒の植木商が、浅草寺裏より浅間神社周辺に集まります。\n\n◇浅間神社周辺へは、\n・東京メトロ銀座線　浅草駅　徒歩10分\n・東武伊勢崎線　浅草駅　徒歩10分\n・都営地下鉄浅草線　浅草駅　徒歩12分\n・つくばエクスプレス　浅草駅　徒歩10分\n・都営バス　浅草4丁目　徒歩2分\n\n◇お問い合わせ\n花のフェスティバル実行委員会\n電話：03-5849-4950
SUMMARY:お富士さんの植木市と花のフェスティバル：6月
PRIORITY:0
CLASS:PUBLIC
END:VEVENT
END:VCALENDAR
