BEGIN:VCALENDAR
CALSCALE:GREGORIAN
X-WR-TIMEZONE;VALUE=TEXT:GMT
PRODID:PEAK Corporation - piCal -
X-WR-CALNAME;VALUE=TEXT:フラワートライアルジャパン　2012秋ガーデントライアル IN 八ヶ岳2012
VERSION:2.0
METHOD:PUBLISH
BEGIN:VTIMEZONE
TZID:GMT
BEGIN:STANDARD
DTSTART:19390101T000000
TZOFFSETFROM:+0000
TZOFFSETTO:+0000
TZNAME:GMT
END:STANDARD
END:VTIMEZONE
BEGIN:VEVENT
DTSTART;VALUE=DATE:20120925
DTEND;VALUE=DATE:20120928
LOCATION:バラクライングリッシュガーデンや八ヶ岳の各種苗農場会場
TRANSP:OPAQUE
SEQUENCE:1
UID:pical060-1ec3f4eda0972b1190bffe34911c5551
DTSTAMP:20120809T161717Z
CATEGORIES:園芸イベント,研究会、セミナー、勉強会,首都圏以外,展覧会、展示会
DESCRIPTION:&lt;蓼科高原　バラクライングリッシュガーデン公式サイトより情報を転載&gt;\n\n<b><span style="font-size: medium;">フラワー トライアル ジャパン 2012秋</span></b>\n<b>同時開催：ガーデントライアルIN八ヶ岳 2012</b>\n\n2012年9月25日（火）&#12316;27日（木）\n\n＜フラワートライアルとは＞\n園芸業界の次年度の新品種・新商品・新企画が、いち早く発表されるバイヤー向けトレードショー（展示商談会）です。\n★この期間、ガーデン＆園内ショップ／レストランは、通常通り営業いたしております。\n★なお本イベントは、トレードショー（園芸業界バイヤー向け展示商談会）の為、一般の方の会場へのご入場はできません。\n★各会場への入場には事前登録が必要です★\n園芸業界関係者／マスコミ関係社／官公庁関係者以外のご入場はできません。\n\n蓼科から八ヶ岳エリアには、山麓の気候の良さを利用して、全国でも有数のナーセリーが集まり、日本における有数の花卉生産地として、商品開発の拠点となってきております。\n9月の八ヶ岳では、これまでもナーセリー各社が生産施設を開放して、個々に秋の展示商談会を開催してきました。\nその中から自然発生的に「フラワートライアル」の名で共通の日程で案内マップが作られるようになり、秋の八ヶ岳は花苗・野菜苗の新商品発表の場として定着してきました。\n全国から小売バイヤーをはじめ流通関係者、生産者など業界関係者1,000名以上が参加した昨年のフラワートライアルジャパン。\n今年も長野県・山梨県の両県にまたがる八ヶ岳南西麓１１会場にて『フラワートライアル ジャパン2012秋』を大々的に開催します。\n\n◆主催：フラワートライアルジャパン実行委員会\n実行委員長　：景山英治（株式会社東海化成）\n副実行委員長：谷本裕司（株式会社ミヨシ）\n　　　　　　　西本晃史（バラクライングリッシュガーデン）\n実行委員　　：荒井秀夫（株式会社ゲブラナガトヨ）　　　　　　　　鵜飼和仁（有限会社エイチアンドエルプランテーション）\n　　　　　　　須賀健太郎（サントリーフラワーズ株式会社）\n　　　　　　　田中義一（株式会社フラワーオークションジャパン）\n　　　　　　　堤勝智（カネコ種苗株式会社）\n　　　　　　　野出進（株式会社サカタのタネ）\n　　　　　　　藤田善敬（童仙房ナーセリー＆ガーデン）　　　　　本田繁（日本花普及センター）\n　　　　　　　溝口周夫（日本デルモンテ株式会社）\n事務局　　　：山川正浩（株式会社グリーン情報）\n\n後　援　　　：農林水産省\n\n＜本会の見所＞\n『フラワートライアルジャパン／11会場』『ガーデントライアル／2会場』合わせ13会場、約100社が出展（内、バラクラ会場には２９社）。\n来年度の新品種・新商品の中からバイヤー要チェックのトレンドを選ぶ『フラワートライアル大賞』（審査委員長：ケイ山田）の発表。（農林水産大臣賞 申請中　8/4現在）\n各出展社とじっくり仕入の商談をする事ができます\n\nグリーン情報の本イベント公式サイトは、<a href="http://www.green-joho.jp/trial/index.html" target="_blank">こちらから。</a>
SUMMARY:フラワートライアルジャパン　2012秋ガーデントライアル IN 八ヶ岳2012
PRIORITY:0
CLASS:PUBLIC
END:VEVENT
END:VCALENDAR
