BEGIN:VCALENDAR
CALSCALE:GREGORIAN
X-WR-TIMEZONE;VALUE=TEXT:GMT
PRODID:PEAK Corporation - piCal -
X-WR-CALNAME;VALUE=TEXT:フラワートライアルジャパン2012日帰り見学ツアー（園芸文化協会主催）
VERSION:2.0
METHOD:PUBLISH
BEGIN:VTIMEZONE
TZID:GMT
BEGIN:STANDARD
DTSTART:19390101T000000
TZOFFSETFROM:+0000
TZOFFSETTO:+0000
TZNAME:GMT
END:STANDARD
END:VTIMEZONE
BEGIN:VEVENT
DTSTART:20120924T223000Z
DTEND:20120925T100000Z
LOCATION:八ヶ岳
TRANSP:OPAQUE
SEQUENCE:0
UID:pical060-ab8a87c99e42f39269dee2861d1bacef
DTSTAMP:20120906T153317Z
CATEGORIES:園芸イベント,研究会、セミナー、勉強会
DESCRIPTION:◆案内役◆\n金子明人(園芸研究家、NHK「趣味の園芸」講師、園芸文化協会理事)\n◆集合場所◆新宿駅西口\n◆ツアー行程◆\n新宿駅西口⇒バラクライングリッシュガーデン()10：30〜12：00）⇒昼食(車中)⇒フィオーレ小淵沢(13：00〜14：00)⇒ミヨシ八ヶ岳営業育苗センター(14：15〜15：15)⇒道の駅はくしゅう⇒新宿駅西口(19：00)\n◆参加費◆協会会員　7,000円、一般　8,000円\n参加費に含まれるもの：バス、昼食(弁当)、旅行保険\n◆定　員◆40名\n◆申込方法◆はがき、FAXまたはメールで事務局宛てに申し込む\n◆申込締切◆9月18日火曜
SUMMARY:フラワートライアルジャパン2012日帰り見学ツアー（園芸文化協会主催）
PRIORITY:0
CLASS:PUBLIC
END:VEVENT
END:VCALENDAR
