BEGIN:VCALENDAR
CALSCALE:GREGORIAN
X-WR-TIMEZONE;VALUE=TEXT:GMT
PRODID:PEAK Corporation - piCal -
X-WR-CALNAME;VALUE=TEXT:上野不忍池観蓮会(園芸文化協会主催)
VERSION:2.0
METHOD:PUBLISH
BEGIN:VTIMEZONE
TZID:GMT
BEGIN:STANDARD
DTSTART:19390101T000000
TZOFFSETFROM:+0000
TZOFFSETTO:+0000
TZNAME:GMT
END:STANDARD
END:VTIMEZONE
BEGIN:VEVENT
DTSTART:20121020T010000Z
DTEND:20121020T033000Z
LOCATION:上野不忍池・寛永寺辯天堂書院
TRANSP:OPAQUE
SEQUENCE:0
UID:pical060-fc3e4ed9513b118e1047a85774433069
DTSTAMP:20120906T153859Z
CATEGORIES:園芸イベント,研究会、セミナー、勉強会
DESCRIPTION:◆定　員◆70名\n◆参加費◆無料\n◆講　師◆\n浦井　正明(寛永寺長)\n小笠原佐衛門亮軒氏(江戸園芸研究家・園芸文化協会副会長)
SUMMARY:上野不忍池観蓮会(園芸文化協会主催)
PRIORITY:0
CLASS:PUBLIC
END:VEVENT
END:VCALENDAR
