BEGIN:VCALENDAR
CALSCALE:GREGORIAN
X-WR-TIMEZONE;VALUE=TEXT:GMT
PRODID:PEAK Corporation - piCal -
X-WR-CALNAME;VALUE=TEXT:第10回国際フラワーEXPO
VERSION:2.0
METHOD:PUBLISH
BEGIN:VTIMEZONE
TZID:GMT
BEGIN:STANDARD
DTSTART:19390101T000000
TZOFFSETFROM:+0000
TZOFFSETTO:+0000
TZNAME:GMT
END:STANDARD
END:VTIMEZONE
BEGIN:VEVENT
DTSTART;VALUE=DATE:20131009
DTEND;VALUE=DATE:20131012
LOCATION:幕張メッセ
TRANSP:OPAQUE
SEQUENCE:0
UID:pical060-fbe7c28b3df1adfcacdfdd36e1df7070
DTSTAMP:20130114T011610Z
CATEGORIES:園芸イベント,展覧会、展示会
DESCRIPTION:<b>【開催概要】</b>\n\n会期： 2013年10月9日［水］&#12316;11日［金］\n会場： 幕張メッセ\n公式サイト：<a href="http://www.ifex.jp/Home/" target="_blank">IFEX</a>\n\n主催：日本フローラルマーケティング協会（JFMA） / リード エグジビション ジャパン 株式会社\n\n開催展名： 第10回 国際フラワーEXPO ［IFEX］\n\n特設ゾーン：\n\n花 生産者フェア\n育種家ゾーン\n花材・包装資材ゾーン\n造花・ドライ・新素材フラワー ゾーン\nプリザーブドフラワー ゾーン\nIFEXフラワーリビング\n母の日 販促ゾーン\nフューネラル ゾーン\n\n同時開催展：\n第7回 国際 ガーデンEXPO ［GARDEX］\n第5回 国際 エクステリアEXPO ［EXTEPO］\n第3回 国際 農業資材EXPO ［AGRITECH］\n第3回 国際 道工具・作業用品EXPO ［TOOL JAPAN]\n\n【展示会 事務局連絡先】\nリード ジャパン（株）内\n〒163-0570\n東京都新宿区西新宿1-26-2\n新宿野村ビル18階\nTEL ： 03-3349-8511 (直)\nFAX ： 03-3349-8523\nE-mail ：<a href="mailto:ifex@reedexpo.co.jp">ifex@reedexpo.co.jp</a>
SUMMARY:第10回国際フラワーEXPO
PRIORITY:0
CLASS:PUBLIC
END:VEVENT
END:VCALENDAR
