BEGIN:VCALENDAR
CALSCALE:GREGORIAN
X-WR-TIMEZONE;VALUE=TEXT:GMT
PRODID:PEAK Corporation - piCal -
X-WR-CALNAME;VALUE=TEXT:特別展「江戸の園芸文化」(江戸東京博物館開館20周年記念)
VERSION:2.0
METHOD:PUBLISH
BEGIN:VTIMEZONE
TZID:GMT
BEGIN:STANDARD
DTSTART:19390101T000000
TZOFFSETFROM:+0000
TZOFFSETTO:+0000
TZNAME:GMT
END:STANDARD
END:VTIMEZONE
BEGIN:VEVENT
DTSTART;VALUE=DATE:20130730
DTEND;VALUE=DATE:20130902
LOCATION:江戸東京博物館　1階展示室
TRANSP:OPAQUE
SEQUENCE:2
UID:pical060-b8cea4b1ba00a0ba65d90990e4f7397b
DTSTAMP:20130426T143438Z
CATEGORIES:園芸イベント,展覧会、展示会,花卉・植木全般
DESCRIPTION:東京都江戸東京博物館では、7月30日（火）より9月1日（日）まで、特別展「花開く　江戸の園芸」（1階 展示室）を開催します。\n　泰平の世が続く江戸時代、大名から町人まで幅広い階層の人びとは、身分の垣根を越えて草花の栽培に喜びを見いだし、鉢植えの草花を持ち寄ってその美しさや珍しさを競い合っていました。この展覧会は、そのような江戸時代の豊かな園芸文化を紹介するものです。\n\n博物館公式サイトは、<a href="http://www.edo-tokyo-museum.or.jp/" target="_blank">こちら。</a>\n同特別展の関連教室として、「変化朝顔の育て方」が開催されます。詳細は、<a href="http://www.edo-tokyo-museum.or.jp/information/2013/0423.html" target="_blank">こちらから。</a>
SUMMARY:特別展「江戸の園芸文化」(江戸東京博物館開館20周年記念)
PRIORITY:0
CLASS:PUBLIC
END:VEVENT
END:VCALENDAR
