BEGIN:VCALENDAR
CALSCALE:GREGORIAN
X-WR-TIMEZONE;VALUE=TEXT:GMT
PRODID:PEAK Corporation - piCal -
X-WR-CALNAME;VALUE=TEXT:第63回　関東東海　花の展覧会
VERSION:2.0
METHOD:PUBLISH
BEGIN:VTIMEZONE
TZID:GMT
BEGIN:STANDARD
DTSTART:19390101T000000
TZOFFSETFROM:+0000
TZOFFSETTO:+0000
TZNAME:GMT
END:STANDARD
END:VTIMEZONE
BEGIN:VEVENT
DTSTART;VALUE=DATE:20140131
DTEND;VALUE=DATE:20140203
LOCATION:池袋サンシャインシティ 文化会館2階　展示ホールD
TRANSP:OPAQUE
SEQUENCE:0
UID:pical060-9aa7823455254ae726ca3eb2a8b212c6
DTSTAMP:20140122T073527Z
CATEGORIES:園芸イベント,展覧会、展示会,花卉・植木全般
DESCRIPTION:＜公式サイトより、転載＞\n■日時\n平成26年1月31日（金）　一般公開（12時〜18時）\n　　　　2月 1日（土）　一般公開（10時〜18時）\n　　　　2月 2日（日）　一般公開（10時〜12時半）\n出品物の即売（14時〜 整理券を当日10時から先着700名に配布)\n\n■会場\n池袋サンシャインシティ 文化会館２階　展示ホールＤ\n（東京都豊島区東池袋三丁目１番）\n\n■内容\n(１) 花の品評会\n出品点数　約2,000点\n　　　　\n部門:\nカーネーション、きく、ばら、球根切花、一般切花、枝　物、花　苗、観葉植物、一般鉢物、洋らん\n\n(２) フラワーデザインコンテスト\n出品点数　約160点\n\n部門:\nフローラルアクセサリー、ブライダルブーケ、アレンジメント\n\n(３) 主催団体による花と緑の装飾展示\n\n(４) イベントコーナー　 ※ 事前申込が必要となるイベントもあります。詳細は 愛知県事務局ホームページで。\nフラワーアレンジメント教室（1月31日、2月1日）\n花育教室（2月1日、2日）\n\n(５) 都県・団体ＰＲコーナー、販売コーナー（1月31日、2月1日）\n\n(６) 愛知県特別展示\n\n■入場料：無料\n\n〔主　催〕\n東京都、愛知県、茨城県、群馬県、栃木県、埼玉県、千葉県、静岡県、神奈川県、岐阜県、三重県、山梨県、\n一般社団法人日本花き生産協会、一般社団法人日本花き卸売市場協会、一般社団法人日本生花通信配達協会、一般社団法人日本種苗協会、公益社団法人日本フラワーデザイナー協会、一般財団法人日本花普及センター\n\n〔後　援〕\n農林水産省、株式会社サンシャインシティ\n\n＜転載以上＞\n\n公式サイトは、<a href="http://www.sangyo-rodo.metro.tokyo.jp/norin/nogyo/hanaten/" target="_blank">こちらから。</a>
SUMMARY:第63回　関東東海　花の展覧会
PRIORITY:0
CLASS:PUBLIC
END:VEVENT
END:VCALENDAR
