BEGIN:VCALENDAR
CALSCALE:GREGORIAN
X-WR-TIMEZONE;VALUE=TEXT:GMT
PRODID:PEAK Corporation - piCal -
X-WR-CALNAME;VALUE=TEXT:上野不忍池早朝観蓮会2014
VERSION:2.0
METHOD:PUBLISH
BEGIN:VTIMEZONE
TZID:GMT
BEGIN:STANDARD
DTSTART:19390101T000000
TZOFFSETFROM:+0000
TZOFFSETTO:+0000
TZNAME:GMT
END:STANDARD
END:VTIMEZONE
BEGIN:VEVENT
DTSTART:20140721T230000Z
DTEND:20140722T020000Z
LOCATION:上野不忍池・寛永寺辨天堂書院
TRANSP:OPAQUE
SEQUENCE:0
UID:pical060-6ef2029dd1a2f0ca0a8258fca61bde0d
DTSTAMP:20140425T143922Z
CATEGORIES:研究会、セミナー、勉強会,園芸イベント
DESCRIPTION:公益社団法人園芸文化協会　創立70周年記念イベント\n<b><span style="font-size: medium;">上野不忍池早朝観蓮会</span></b>\n\n観る：<b>不忍池の蓮観賞</b>\n小笠原せんせいの解説を聴きながら、不忍池の蓮を観賞\n学ぶ：<b>蓮にまつわる歴史や文化の講演</b>\n浦井先生・小笠原先生より蓮にまつわる話の講演\n楽しむ：<b>象鼻杯</b>\n蓮の葉からお酒をいただく「象鼻杯」を楽しむ\n\n【参加料】3,000円(イヤホンガイド使用料、象鼻杯・蓮菓子、お土産)\n【定員】80名(先着順)\n【申し込み期日】平成26年７月10日(木)まで\n【申し込み・問い合わせ先】\n公益社団法人　園芸文化協会Tel：03-5803-6340\n<a href="mailto:enbun@soleil.ocn.ne.jp">enbun@soleil.ocn.ne.jp</a>
SUMMARY:上野不忍池早朝観蓮会2014
PRIORITY:0
CLASS:PUBLIC
END:VEVENT
END:VCALENDAR
