BEGIN:VCALENDAR
CALSCALE:GREGORIAN
X-WR-TIMEZONE;VALUE=TEXT:GMT
PRODID:PEAK Corporation - piCal -
X-WR-CALNAME;VALUE=TEXT:＜中止＞2014年秋季・花卉展示会(園芸文化協会：新宿御苑)
VERSION:2.0
METHOD:PUBLISH
BEGIN:VTIMEZONE
TZID:GMT
BEGIN:STANDARD
DTSTART:19390101T000000
TZOFFSETFROM:+0000
TZOFFSETTO:+0000
TZNAME:GMT
END:STANDARD
END:VTIMEZONE
BEGIN:VEVENT
DTSTART;VALUE=DATE:20141015
DTEND;VALUE=DATE:20141020
LOCATION:新宿御苑インフォメーションセンター1Fアートギャラリー
TRANSP:OPAQUE
SEQUENCE:1
UID:pical060-059a9a80861d544a54f085610ca690a6
DTSTAMP:20141006T150652Z
CATEGORIES:園芸イベント,研究会、セミナー、勉強会,首都圏,展覧会、展示会,花卉・植木全般
DESCRIPTION:1．新品種花卉展示\n2．園芸愛好グループによる展示\n　グループHANAKAGAMI、NPOジャパン・ハーブ・ソサエティ、日本ダリア会、日本ベゴニア会、野草友の会\n3．花市場(即売会)
SUMMARY:＜中止＞2014年秋季・花卉展示会(園芸文化協会：新宿御苑)
PRIORITY:0
CLASS:PUBLIC
END:VEVENT
END:VCALENDAR
