BEGIN:VCALENDAR
CALSCALE:GREGORIAN
X-WR-TIMEZONE;VALUE=TEXT:GMT
PRODID:PEAK Corporation - piCal -
X-WR-CALNAME;VALUE=TEXT:「フラワートライアルジャパン2014秋」日帰りバスツアー
VERSION:2.0
METHOD:PUBLISH
BEGIN:VTIMEZONE
TZID:GMT
BEGIN:STANDARD
DTSTART:19390101T000000
TZOFFSETFROM:+0000
TZOFFSETTO:+0000
TZNAME:GMT
END:STANDARD
END:VTIMEZONE
BEGIN:VEVENT
DTSTART:20140923T221500Z
DTEND:20140924T093000Z
LOCATION:八ヶ岳フラワートライアルジャパン会場
TRANSP:OPAQUE
SEQUENCE:0
UID:pical060-5f2008ea51f265558d08c62beeaa654a
DTSTAMP:20140902T235602Z
CATEGORIES:園芸イベント,研究会、セミナー、勉強会,首都圏以外
DESCRIPTION:●行程\n新宿西口集合、富士見町エリア各会場、八ヶ岳農場直売所、小渕沢エリア会場(M&amp;B Flora フィオーレ小渕沢)\n●案内役：奥峰子先生(ホリーホックガーデン代表、協会理事)\n●参加料：協会会員10,500円、一般12,000円(バス代、昼食、お土産、旅行保険込)\n●申込み期日：9月17日まで
SUMMARY:「フラワートライアルジャパン2014秋」日帰りバスツアー
PRIORITY:0
CLASS:PUBLIC
END:VEVENT
END:VCALENDAR
