BEGIN:VCALENDAR
CALSCALE:GREGORIAN
X-WR-TIMEZONE;VALUE=TEXT:GMT
PRODID:PEAK Corporation - piCal -
X-WR-CALNAME;VALUE=TEXT:恵泉フラワースクールセミナー(「江戸の庭園第4回：小石川後楽園」)
VERSION:2.0
METHOD:PUBLISH
BEGIN:VTIMEZONE
TZID:GMT
BEGIN:STANDARD
DTSTART:19390101T000000
TZOFFSETFROM:+0000
TZOFFSETTO:+0000
TZNAME:GMT
END:STANDARD
END:VTIMEZONE
BEGIN:VEVENT
DTSTART:20141021T040000Z
DTEND:20141021T060000Z
LOCATION:小石川後楽園内　涵徳亭
TRANSP:OPAQUE
SEQUENCE:0
UID:pical060-11b734cfc9e821143f47520b48d38037
DTSTAMP:20141008T014623Z
CATEGORIES:園芸イベント,研究会、セミナー、勉強会,首都圏
DESCRIPTION:講師：宮内　泰之(恵泉女学園大学准教授)\n定員：18名\n講習費：3,240円(別途庭園入場料300円)
SUMMARY:恵泉フラワースクールセミナー(「江戸の庭園第4回：小石川後楽園」)
PRIORITY:0
CLASS:PUBLIC
END:VEVENT
END:VCALENDAR
