BEGIN:VCALENDAR
CALSCALE:GREGORIAN
X-WR-TIMEZONE;VALUE=TEXT:GMT
PRODID:PEAK Corporation - piCal -
X-WR-CALNAME;VALUE=TEXT:神代植物公園・大温室開室
VERSION:2.0
METHOD:PUBLISH
BEGIN:VTIMEZONE
TZID:GMT
BEGIN:STANDARD
DTSTART:19390101T000000
TZOFFSETFROM:+0000
TZOFFSETTO:+0000
TZNAME:GMT
END:STANDARD
END:VTIMEZONE
BEGIN:VEVENT
DTSTART:20160512T040000Z
DTEND:20160512T080000Z
LOCATION:神代植物公園
TRANSP:OPAQUE
SEQUENCE:0
UID:pical060-315a3ca9e53b7f00e9994c55ed0854b9
DTSTAMP:20160410T070012Z
CATEGORIES:園芸イベント,展覧会、展示会
DESCRIPTION:詳細は、<a href="https://www.tokyo-park.or.jp/now/045/detail.html?showID=1" target="_blank">こちらから、ご覧ください。</a>
SUMMARY:神代植物公園・大温室開室
PRIORITY:0
CLASS:PUBLIC
END:VEVENT
END:VCALENDAR
